BEGIN:VCALENDAR
VERSION:2.0
PRODID:-//Pace - ECPv6.6.4//NONSGML v1.0//EN
CALSCALE:GREGORIAN
METHOD:PUBLISH
X-ORIGINAL-URL:https://thepacecentre.org
X-WR-CALDESC:Events for Pace
REFRESH-INTERVAL;VALUE=DURATION:PT1H
X-Robots-Tag:noindex
X-PUBLISHED-TTL:PT1H
BEGIN:VTIMEZONE
TZID:Europe/London
BEGIN:DAYLIGHT
TZOFFSETFROM:+0000
TZOFFSETTO:+0100
TZNAME:BST
DTSTART:20260329T010000
END:DAYLIGHT
BEGIN:STANDARD
TZOFFSETFROM:+0100
TZOFFSETTO:+0000
TZNAME:GMT
DTSTART:20261025T010000
END:STANDARD
END:VTIMEZONE
BEGIN:VEVENT
DTSTART;TZID=Europe/London:20261102T080000
DTEND;TZID=Europe/London:20261102T170000
DTSTAMP:20260420T094200
CREATED:20250916T092057Z
LAST-MODIFIED:20250916T092057Z
UID:10000560-1793606400-1793638800@thepacecentre.org
SUMMARY:Return to school from Half term Break
DESCRIPTION:
URL:https://thepacecentre.org/event/return-to-school-from-half-term-break/
LOCATION:Buckinghamshire
CATEGORIES:School
END:VEVENT
END:VCALENDAR