BEGIN:VCALENDAR
VERSION:2.0
PRODID:-//Pace - ECPv6.6.4//NONSGML v1.0//EN
CALSCALE:GREGORIAN
METHOD:PUBLISH
X-WR-CALNAME:Pace
X-ORIGINAL-URL:https://thepacecentre.org
X-WR-CALDESC:Events for Pace
REFRESH-INTERVAL;VALUE=DURATION:PT1H
X-Robots-Tag:noindex
X-PUBLISHED-TTL:PT1H
BEGIN:VTIMEZONE
TZID:Europe/London
BEGIN:DAYLIGHT
TZOFFSETFROM:+0000
TZOFFSETTO:+0100
TZNAME:BST
DTSTART:20260329T010000
END:DAYLIGHT
BEGIN:STANDARD
TZOFFSETFROM:+0100
TZOFFSETTO:+0000
TZNAME:GMT
DTSTART:20261025T010000
END:STANDARD
END:VTIMEZONE
BEGIN:VEVENT
DTSTART;TZID=Europe/London:20261217T080000
DTEND;TZID=Europe/London:20261217T170000
DTSTAMP:20260420T124600
CREATED:20250916T092312Z
LAST-MODIFIED:20250916T092312Z
UID:10000561-1797494400-1797526800@thepacecentre.org
SUMMARY:Last Day of Autumn Term
DESCRIPTION:
URL:https://thepacecentre.org/event/last-day-of-autumn-term/
LOCATION:Buckinghamshire
CATEGORIES:School
END:VEVENT
END:VCALENDAR