BEGIN:VCALENDAR
VERSION:2.0
PRODID:-//Pace - ECPv6.6.4//NONSGML v1.0//EN
CALSCALE:GREGORIAN
METHOD:PUBLISH
X-WR-CALNAME:Pace
X-ORIGINAL-URL:https://thepacecentre.org
X-WR-CALDESC:Events for Pace
REFRESH-INTERVAL;VALUE=DURATION:PT1H
X-Robots-Tag:noindex
X-PUBLISHED-TTL:PT1H
BEGIN:VTIMEZONE
TZID:Europe/London
BEGIN:DAYLIGHT
TZOFFSETFROM:+0000
TZOFFSETTO:+0100
TZNAME:BST
DTSTART:20260329T010000
END:DAYLIGHT
BEGIN:STANDARD
TZOFFSETFROM:+0100
TZOFFSETTO:+0000
TZNAME:GMT
DTSTART:20261025T010000
END:STANDARD
END:VTIMEZONE
BEGIN:VEVENT
DTSTART;VALUE=DATE:20260422
DTEND;VALUE=DATE:20260423
DTSTAMP:20260419T223102
CREATED:20250909T090911Z
LAST-MODIFIED:20250909T090911Z
UID:10000553-1776816000-1776902399@thepacecentre.org
SUMMARY:International Mother Earth Day
DESCRIPTION:
URL:https://thepacecentre.org/event/international-mother-earth-day/
LOCATION:Buckinghamshire
CATEGORIES:School
END:VEVENT
END:VCALENDAR